BEGIN:VCALENDAR
VERSION:2.0
PRODID:-//ExpressionEngine Easy iCalendar plugin//NONSGML v2.0.0//EN
X-WR-TIMEZONE:Pacific/Auckland
X-WR-CALNAME:Upcoming Auctions
BEGIN:VEVENT
UID:121391
DTSTAMP:20240531T173000
DTSTART:20240531T173000
DTEND:20240604T180000
SUMMARY:Kings Birthday Auction MO2449
LOCATION:50 Fairfax Ave\, Penrose\, Auckland\, AU 2105\, NZ
DESCRIPTION:ONLINE AUCTION: Food and beverages\, toys\, trinkets\, househo
 ld goods\, whiteware\, DIY and plenty more on offer in this Ge
 neral Goods Auction
URL:https://www.thorntons.net.nz/auctions/detail/bw121391
SEQUENCE:1
END:VEVENT
END:VCALENDAR