BEGIN:VCALENDAR
VERSION:2.0
PRODID:-//ExpressionEngine Easy iCalendar plugin//NONSGML v2.0.0//EN
X-WR-TIMEZONE:Pacific/Auckland
X-WR-CALNAME:Upcoming Auctions
BEGIN:VEVENT
UID:121541
DTSTAMP:20250409T163000
DTSTART:20250409T163000
DTEND:20250414T180000
SUMMARY:Beverages & Bargains Auction 14.04.25 MO121541
LOCATION:{location}
DESCRIPTION:Hop into savings for Easter! Get ready for the long weekend 
 NOW with our exciting auction\, brimming with unbeatable deal
 s. Bubbles\, wines & beers \, spirits\, foody treats\, and more.
  Don’t miss your chance to snag incredible bargains!
URL:https://www.thorntons.net.nz/auctions/detail/bw121541
SEQUENCE:1
END:VEVENT
END:VCALENDAR