BEGIN:VCALENDAR
VERSION:2.0
PRODID:-//ExpressionEngine Easy iCalendar plugin//NONSGML v2.0.0//EN
X-WR-TIMEZONE:Pacific/Auckland
X-WR-CALNAME:Upcoming Auctions
BEGIN:VEVENT
UID:121543
DTSTAMP:20251220T110000
DTSTART:20251220T110000
DTEND:20260119T180000
SUMMARY:Safe-T-Tech Pallet Auction OS121543
LOCATION:39-45 Shelly StreetÂ \, Palmerston North\, MA 4414\, NZ
DESCRIPTION:UNRESERVED AUCTION NOTICE â€“ SAFETY GEAR PALLETS MUST GO No
  matter your industry â€” mining\, oil & gas\, construction\, f
 orestry\, emergency services\, or food production â€” Safe-T-T
 ecâ€™s product range has been refined through innovation and
  industry feedback to meet the highest safety standards. Weâ
 €™re offering multiple pallets of quality safety gear that n
 eed to be cleared. These are all new items. Per Pallet Prici
 ng Nationwide Delivery Available to MAIN CENTRES ONLY $85 + 
 GST per pallet North Island $185 + GST per pallet South Isla
 ndÂ  Collection available from Palmerston North by arrangeme
 nt This is a prime opportunity to secure trusted safety equi
 pment at exceptional value.
URL:https://www.thorntons.net.nz/auctions/detail/bw121543
SEQUENCE:1
END:VEVENT
END:VCALENDAR