BEGIN:VCALENDAR
VERSION:2.0
PRODID:-//ExpressionEngine Easy iCalendar plugin//NONSGML v2.0.0//EN
X-WR-TIMEZONE:Pacific/Auckland
X-WR-CALNAME:Upcoming Auctions
BEGIN:VEVENT
UID:122269
DTSTAMP:20240618T173100
DTSTART:20240618T173100
DTEND:20240624T180000
SUMMARY:Damaged Freight & Tools Auction TH240606
LOCATION:50 Fairfax Ave\, Penrose\, Auckland\, AU 2105\, NZ
DESCRIPTION:Plenty of tools to complete your home workshop or DIY needs 
 along with our latest arrivals of damaged freight. This coul
 d be where some packaging gets ripped\, an item is dropped\, g
 ets wet\, marked\, scratched dented\, or just written off. New 
 and second hand goods - plenty of bargains! All need to be c
 leared. On-site viewing at our auction rooms at 50 Fairfax A
 ve\, Penrose on the day of the auction closing. Auction lots 
 staggered close from 6pm on the auction day. Online bidding 
 only\, available via our website - www.thornons.net.nz. 
URL:https://www.thorntons.net.nz/auctions/detail/bw122269
SEQUENCE:1
END:VEVENT
END:VCALENDAR