BEGIN:VCALENDAR
VERSION:2.0
PRODID:-//ExpressionEngine Easy iCalendar plugin//NONSGML v2.0.0//EN
X-WR-TIMEZONE:Pacific/Auckland
X-WR-CALNAME:Upcoming Auctions
BEGIN:VEVENT
UID:122270
DTSTAMP:20260430T180000
DTSTART:20260430T180000
DTEND:20260507T180000
SUMMARY:Police & Others Auction 7.5.26 TH122270
LOCATION:50 Fairfax Ave\, Penrose\, Auckland\, AU 2105\, NZ
DESCRIPTION:Jewellery\, Matches\, Motorbikes & More – Don’t Miss This 
 One Explore an exciting lineup featuring jewellery\, matches\,
  tech and tools\, plus two motorbikes\, all coming up in our P
 olice Auction. Viewing: Thursday 7 May\, from 9.30am Thornton
  Auctions 50 Fairfax Avenue\, Penrose Register now to be amon
 g the first to know when the auction catalogue is live and r
 eady to bid.
URL:https://www.thorntons.net.nz/auctions/detail/bw122270
SEQUENCE:1
END:VEVENT
END:VCALENDAR