BEGIN:VCALENDAR
VERSION:2.0
PRODID:-//ExpressionEngine Easy iCalendar plugin//NONSGML v2.0.0//EN
X-WR-TIMEZONE:Pacific/Auckland
X-WR-CALNAME:Upcoming Auctions
BEGIN:VEVENT
UID:122878
DTSTAMP:20240627T171500
DTSTART:20240627T171500
DTEND:20240701T180000
SUMMARY:General Goods Auction MO240701
LOCATION:50 Fairfax Ave\, Penrose\, Auckland\, AU 2105\, NZ
DESCRIPTION:Food and beverages\, toys\, trinkets\, household goods\, whitewa
 re\, DIY and plenty more on offer in this General Goods Aucti
 on Auction lots have staggered closing times of 30 seconds f
 rom 6 p.m. MONDAY This is an ONLINE-ONLY AUCTION Collection 
 from 50 Fairfax Ave\, Penrose\, Auckland. Collection must be b
 ooked from the ‘book collections now’ button on our webs
 ite. Buyers Premium = 15% plus GST on the buyer’s premium 
 Payment Bank deposit\, credit card\, or PayPal - any transacti
 on fees\, surcharges etc will be passed on to payable by the 
 buyer Must be made after the auctions with item collections 
 within 3 working days Payments outstanding beyond 3 days wil
 l be charged to the buyer-nominated credit card Viewing is 
 Monday June 17th Items have not been authenticated\; buyers m
 ust do their due diligence as per our terms and conditions B
 uyer to supply correct labour\, vehicle\, and packing items up
 on collection You must be over 18 to bid on alcohol - photog
 raph ID required If you have any questions or requests\, plea
 se email enquiries@thorntons.net.nz.
URL:https://www.thorntons.net.nz/auctions/detail/bw122878
SEQUENCE:1
END:VEVENT
END:VCALENDAR