BEGIN:VCALENDAR
VERSION:2.0
PRODID:-//ExpressionEngine Easy iCalendar plugin//NONSGML v2.0.0//EN
X-WR-TIMEZONE:Pacific/Auckland
X-WR-CALNAME:Upcoming Auctions
BEGIN:VEVENT
UID:122880
DTSTAMP:20240701T173000
DTSTART:20240701T173000
DTEND:20240704T180000
SUMMARY:Food & Beverage Auction TH240702
LOCATION:50 Fairfax Ave\, Penrose\, Auckland\, AU 2105\, NZ
DESCRIPTION:Plenty of plonk\, brilliant beers\, bubbles\, RTDs\, non alcohol
 ic drinks and a few things to nibble on in this Timed Online
  Auction. This is a TIMED ONLINE ONLY Auction. Auction lots 
 have staggered closing times of 30 seconds from 6 p.m. THURS
 DAY. Viewing is available on auction day. Items have not bee
 n authenticated\; are responsible for determining for themsel
 ves of any item's condition or functionality as per our term
 s and conditions. All goods are without warranties expressed
  or given. The sale of goods act does not apply to this auct
 ion. Collection from 50 Fairfax Ave\, Penrose\, Auckland. Coll
 ection must be booked from the ‘book collections now’ bu
 tton on our website and completed within 3 working days. Buy
 ers Premium = 15% plus GST on the buyer’s premium. Payment
 : Bank Deposit\, Credit Card\, or PayPal - any transaction fee
 s\, surcharges etc will be passed on to payable by the buyer.
  Must be made online after the auction concludes as per your
  invoice. Buyer to supply correct labour\, vehicle\, and packi
 ng items upon collection You must be over 18 to bid on alcoh
 ol - photograph ID required *** PLEASE ENSURE YOU HAVE READ 
 THE TERMS OF THIS AUCTION PRIOR TO BIDDING *** If you have a
 ny questions or requests\, please email enquiries@thorntons.n
 et.nz.
URL:https://www.thorntons.net.nz/auctions/detail/bw122880
SEQUENCE:1
END:VEVENT
END:VCALENDAR