BEGIN:VCALENDAR
VERSION:2.0
PRODID:-//ExpressionEngine Easy iCalendar plugin//NONSGML v2.0.0//EN
X-WR-TIMEZONE:Pacific/Auckland
X-WR-CALNAME:Upcoming Auctions
BEGIN:VEVENT
UID:123136
DTSTAMP:20240730T100000
DTSTART:20240730T100000
DTEND:20240805T180000
SUMMARY:Watch Auction OL240705
LOCATION:50 Fairfax Ave\, Penrose\, Auckland\, AU 2105\, NZ
DESCRIPTION:A Mixture of Analog and Digital Watches in Various Brands Au
 ction lots have staggered closing times of 30 seconds from 6
  p.m. Monday August 5th This is an ONLINE-ONLY AUCTION Coll
 ection from 50 Fairfax Ave\, Penrose\, Auckland. Collection mu
 st be booked from the ‘book collections now’ button on o
 ur website. Buyers Premium = 15% plus GST on the buyer’s p
 remium Payment Bank deposit\, credit card\, or PayPal - any tr
 ansaction fees\, surcharges etc. will be passed on to payable
  by the buyer Must be made after the auctions with item coll
 ections within 3 working days Payments outstanding beyond 3 
 days will be charged to the buyer-nominated credit card View
 ing is now on Monday 5th 9am to 4.30pm Items have not been a
 uthenticated\; buyers must do their due diligence as per our 
 terms and conditions Buyer to supply correct labour\, vehicle
 \, and packing items upon collection You must be over 18 to b
 id on alcohol - photograph ID required If you have any quest
 ions or requests\, please email enquiries@thorntons.net.nz.
URL:https://www.thorntons.net.nz/auctions/detail/bw123136
SEQUENCE:1
END:VEVENT
END:VCALENDAR