BEGIN:VCALENDAR
VERSION:2.0
PRODID:-//ExpressionEngine Easy iCalendar plugin//NONSGML v2.0.0//EN
X-WR-TIMEZONE:Pacific/Auckland
X-WR-CALNAME:Upcoming Auctions
BEGIN:VEVENT
UID:123138
DTSTAMP:20240708T070000
DTSTART:20240708T070000
DTEND:20240711T180000
SUMMARY:Police & Others Tech Auction TH240706
LOCATION:50 Fairfax Ave\, Penrose\, Auckland\, AU 2105\, NZ
DESCRIPTION:Phones\, tablets\, PCs\, Kindles\, smart watches\, earbuds\, headp
 hones\, laptops\, and much more. Viewing onsite at 50 Fairfax 
 Ave\, Penrose on the day of the Auction with pre-biding and v
 iewing online in the days leading up to the auction at www.
 thorntons.net.nz. You cannot bid via Facebook - only through
  our auction website. Auction lots start to close every 30 s
 econds from 6 pm
URL:https://www.thorntons.net.nz/auctions/detail/bw123138
SEQUENCE:1
END:VEVENT
END:VCALENDAR