BEGIN:VCALENDAR
VERSION:2.0
PRODID:-//ExpressionEngine Easy iCalendar plugin//NONSGML v2.0.0//EN
X-WR-TIMEZONE:Pacific/Auckland
X-WR-CALNAME:Upcoming Auctions
BEGIN:VEVENT
UID:123391
DTSTAMP:20240703T170000
DTSTART:20240703T170000
DTEND:20240708T180000
SUMMARY:General Goods Auction MO240708
LOCATION:50 Fairfax Ave\, Penrose\, Auckland\, AU 2105\, NZ
DESCRIPTION:Food and beverages\, toys\, trinkets\, household goods\, whitewa
 re\, DIY and plenty more on offer in this General Goods Aucti
 on Auction lots have staggered closing times of 30 seconds f
 rom 6 p.m. MONDAY This is an ONLINE-ONLY AUCTION Collection 
 from 50 Fairfax Ave\, Penrose\, Auckland. Collection must be b
 ooked from the ‘book collections now’ button on our webs
 ite. Buyers Premium = 15% plus GST on the buyer’s premium 
 Payment Bank deposit\, credit card\, or PayPal - any transacti
 on fees\, surcharges etc will be passed on to payable by the 
 buyer Must be made after the auctions with item collections 
 within 3 working days Payments outstanding beyond 3 days wil
 l be charged to the buyer-nominated credit card Viewing is 
 Monday July 8th Items have not been authenticated\; buyers mu
 st do their due diligence as per our terms and conditions Bu
 yer to supply correct labour\, vehicle\, and packing items upo
 n collection You must be over 18 to bid on alcohol - photogr
 aph ID required If you have any questions or requests\, pleas
 e email enquiries@thorntons.net.nz.
URL:https://www.thorntons.net.nz/auctions/detail/bw123391
SEQUENCE:1
END:VEVENT
END:VCALENDAR