BEGIN:VCALENDAR
VERSION:2.0
PRODID:-//ExpressionEngine Easy iCalendar plugin//NONSGML v2.0.0//EN
X-WR-TIMEZONE:Pacific/Auckland
X-WR-CALNAME:Upcoming Auctions
BEGIN:VEVENT
UID:123392
DTSTAMP:20250815T170000
DTSTART:20250815T170000
DTEND:20250819T180000
SUMMARY:Alcohol & General Goods Auction 19.8.25 TU123392
LOCATION:50 Fairfax Ave\, Penrose\, Auckland\, AU 2105\, NZ
DESCRIPTION:22.08.25 TD first SMS sent to outstanding buyers
URL:https://www.thorntons.net.nz/auctions/detail/bw123392
SEQUENCE:1
END:VEVENT
END:VCALENDAR