BEGIN:VCALENDAR
VERSION:2.0
PRODID:-//ExpressionEngine Easy iCalendar plugin//NONSGML v2.0.0//EN
X-WR-TIMEZONE:Pacific/Auckland
X-WR-CALNAME:Upcoming Auctions
BEGIN:VEVENT
UID:124422
DTSTAMP:20240807T124000
DTSTART:20240807T124000
DTEND:20240807T134000
SUMMARY:Antiques & Collectables Estate Auction TH240801
LOCATION:50 Fairfax Ave\, Penrose\, Auckland\, AU 2105\, NZ
DESCRIPTION:A large number items on sale selected from a lifetime accum
 ulation of collectables\, as well as some beautiful furnitur
 e piece's\, artwork and more. Steins\, goblets\, pottery\, plate
 s\, ceramics\, tins\, alcohol\, prints\, lamps\, figurines\, brass 
 & copper collectables\, antique toys Auction lots will have p
 re-bidding open now\, before the live outcry auction event th
 at will also be livestreamed.  The auction lots go under th
 e hammer from 1 p.m WEDNESDAY AUGUST 7TH. Viewing and colle
 ction from 50 Fairfax Ave\, Penrose\, Auckland. Collection mus
 t be booked from the ‘book collections now’ button on ou
 r website. Buyers Premium = 15% plus GST on the buyer’s pr
 emium Payment Bank deposit\, credit card\, or PayPal - any tra
 nsaction fees\, surcharges etc will be passed on to payable b
 y the buyer Must be made after the auctions with item collec
 tions within 3 working days Payments outstanding beyond 3 da
 ys will be charged to the buyer-nominated credit card Items 
 have not been authenticated\; buyers must do their due dilige
 nce as per our terms and conditions Buyer to supply correct 
 labour\, vehicle\, and packing items upon collection You must 
 be over 18 to bid on alcohol - photograph ID required If you
  have any questions or requests\, please email enquiries@thor
 ntons.net.nz.
URL:https://www.thorntons.net.nz/auctions/detail/bw124422
SEQUENCE:1
END:VEVENT
END:VCALENDAR