BEGIN:VCALENDAR
VERSION:2.0
PRODID:-//ExpressionEngine Easy iCalendar plugin//NONSGML v2.0.0//EN
X-WR-TIMEZONE:Pacific/Auckland
X-WR-CALNAME:Upcoming Auctions
BEGIN:VEVENT
UID:124644
DTSTAMP:20240802T050000
DTSTART:20240802T050000
DTEND:20240808T180000
SUMMARY:Police & Others Tech Auction TH240808
LOCATION:50 Fairfax Ave\, Penrose\, Auckland\, AU 2105\, NZ
DESCRIPTION:Phones\, tablets\, PCs\, Kindles\, smart watches\, earbuds\, headp
 hones\, laptops\, and much more. Auction lots start to close e
 very 30 seconds from 6 pm
URL:https://www.thorntons.net.nz/auctions/detail/bw124644
SEQUENCE:1
END:VEVENT
END:VCALENDAR