BEGIN:VCALENDAR
VERSION:2.0
PRODID:-//ExpressionEngine Easy iCalendar plugin//NONSGML v2.0.0//EN
X-WR-TIMEZONE:Pacific/Auckland
X-WR-CALNAME:Upcoming Auctions
BEGIN:VEVENT
UID:125374
DTSTAMP:20240815T160000
DTSTART:20240815T160000
DTEND:20240819T180000
SUMMARY:General Goods Auction MO240819
LOCATION:50 Fairfax Ave\, Penrose\, Auckland\, AU 2105\, NZ
DESCRIPTION:Still being loaded with plenty more to come: Food and bevera
 ges\, toys\, trinkets\, household goods\, whiteware\, DIY and ple
 nty more on offer in this General Goods Auction Auction lots
  have staggered closing times of 30 seconds from 6 p.m. MOND
 AY AUGUST 19th This is an ONLINE-ONLY AUCTION Collection fro
 m 50 Fairfax Ave\, Penrose\, Auckland. Collection must be book
 ed from the ‘book collections now’ button on our website
 . Buyers Premium = 15% plus GST on the buyer’s premium Pay
 ment Bank deposit\, credit card\, or PayPal - any transaction 
 fees\, surcharges etc will be passed on to payable by the buy
 er Must be made after the auctions with item collections wit
 hin 3 working days Payments outstanding beyond 3 days will b
 e charged to the buyer-nominated credit card Items have not 
 been authenticated\; buyers must do their due diligence as pe
 r our terms and conditions Buyer to supply correct labour\, v
 ehicle\, and packing items upon collection You must be over 1
 8 to bid on alcohol - photograph ID required If you have any
  questions or requests\, please email enquiries@thorntons.net
 .nz.
URL:https://www.thorntons.net.nz/auctions/detail/bw125374
SEQUENCE:1
END:VEVENT
END:VCALENDAR