BEGIN:VCALENDAR
VERSION:2.0
PRODID:-//ExpressionEngine Easy iCalendar plugin//NONSGML v2.0.0//EN
X-WR-TIMEZONE:Pacific/Auckland
X-WR-CALNAME:Upcoming Auctions
BEGIN:VEVENT
UID:125422
DTSTAMP:20240822T174800
DTSTART:20240822T174800
DTEND:20240822T184800
SUMMARY:Wallace Estate Auction OS240824
LOCATION:9 Della Place\, Conifer Grove\, Takanini\, Auckland\, AU 2112\, N
 Z
DESCRIPTION:Please note the items are across two site locations for pr
 eviewing and winners collection Collection are from 2 separa
 te sites (PLEASE CHECK YOU ITEMS LOCATION): Takanini Site It
 ems (9 Della Place\, Takanini): Monday 26/8 & Tuesday 27/8: 1
 0:30am - 3:30pm Thursday 10:30am - 12:30pm Please book you 
 collection time at www.thorntons.net.nz Relocation to Thornt
 ons available - please contact us for a quote Thornton Aucti
 on Room Items (50 Fairfax Ave\, Penrose) During normal office
  hours Collection must be booked from the ‘book collection
 s now’ link at www.thorntons.net.nz Please complete collec
 tion within 3 working days. Combined collection and / or de
 liveries Contact us for a quote  Phone: 09 622 1963 Email: 
 enquiries@thorntons.net.nz Buyers Premium = 15% plus GST on 
 the buyer’s premium. Payment: Bank Deposit\, Credit Card\, o
 r PayPal - any transaction fees\, surcharges etc will be pass
 ed on to payable by the buyer. Must be made online after the
  auction concludes as per your invoice Unpaid invoices will 
 be processed against the stored payment card at 4pm\, Friday 
 August 23rd Buyer to supply correct labour\, vehicle\, and pac
 king items upon collection You must be over 18 to bid on alc
 ohol - photograph ID required *** PLEASE ENSURE YOU HAVE REA
 D THE TERMS OF THIS AUCTION PRIOR TO BIDDING *** If you have
  any questions or requests\, please email enquiries@thorntons
 .net.nz.
URL:https://www.thorntons.net.nz/auctions/detail/bw125422
SEQUENCE:1
END:VEVENT
END:VCALENDAR