BEGIN:VCALENDAR
VERSION:2.0
PRODID:-//ExpressionEngine Easy iCalendar plugin//NONSGML v2.0.0//EN
X-WR-TIMEZONE:Pacific/Auckland
X-WR-CALNAME:Upcoming Auctions
BEGIN:VEVENT
UID:125597
DTSTAMP:20240823T100000
DTSTART:20240823T100000
DTEND:20240826T180000
SUMMARY:Tools &  General Goods Auction MO240826
LOCATION:50 Fairfax Ave\, Penrose\, Auckland\, AU 2105\, NZ
DESCRIPTION:New and used tools\, for the home handyman and the trades. Pl
 us we'll have plenty of DIY supplies and general goods items
  to appeal to all. Auction lots have staggered closing times
  of 30 seconds from 6 p.m. MONDAY AUGUST 26th This is an ONL
 INE-ONLY AUCTION Collection from 50 Fairfax Ave\, Penrose\, Au
 ckland. Collection must be booked from the ‘book collectio
 ns now’ button on our website. Buyers Premium = 15% plus G
 ST on the buyer’s premium Payment Bank deposit\, credit car
 d\, or PayPal - any transaction fees\, surcharges etc will be 
 passed on to payable by the buyer Must be made after the auc
 tions with item collections within 3 working days Payments o
 utstanding beyond 3 days will be charged to the buyer-nomina
 ted credit card Items have not been authenticated\; buyers mu
 st do their due diligence as per our terms and conditions Bu
 yer to supply correct labour\, vehicle\, and packing items upo
 n collection You must be over 18 to bid on alcohol - photogr
 aph ID required If you have any questions or requests\, pleas
 e email enquiries@thorntons.net.nz.
URL:https://www.thorntons.net.nz/auctions/detail/bw125597
SEQUENCE:1
END:VEVENT
END:VCALENDAR