BEGIN:VCALENDAR
VERSION:2.0
PRODID:-//ExpressionEngine Easy iCalendar plugin//NONSGML v2.0.0//EN
X-WR-TIMEZONE:Pacific/Auckland
X-WR-CALNAME:Upcoming Auctions
BEGIN:VEVENT
UID:125599
DTSTAMP:20240819T170000
DTSTART:20240819T170000
DTEND:20240821T180000
SUMMARY:Damaged Freight Auction WE240821
LOCATION:50 Fairfax Ave\, Penrose\, Auckland\, AU 2105\, NZ
DESCRIPTION:Join us in our regular monthly Damaged Freight auction. This
  is where some packaging gets ripped\, an item is dropped\, g
 ets wet\, marked\, scratched dented\, or just written off. New 
 and second hand goods - plenty of bargains! All need to be c
 leared. On-site viewing at our auction rooms at 50 Fairfax A
 ve\, Penrose on the day of the auction closing. Auction lots 
 staggered close from 6pm on the auction day. Online bidding 
 only\, available via our website - www.thornons.net.nz.  Pl
 ease note: Damaged Freight goods should be inspected to asce
 rtain what the appropriate final use for the product is.
URL:https://www.thorntons.net.nz/auctions/detail/bw125599
SEQUENCE:1
END:VEVENT
END:VCALENDAR