BEGIN:VCALENDAR
VERSION:2.0
PRODID:-//ExpressionEngine Easy iCalendar plugin//NONSGML v2.0.0//EN
X-WR-TIMEZONE:Pacific/Auckland
X-WR-CALNAME:Upcoming Auctions
BEGIN:VEVENT
UID:125630
DTSTAMP:20240822T164500
DTSTART:20240822T164500
DTEND:20240829T180000
SUMMARY:Police & Others Auction TH240829
LOCATION:50 Fairfax Ave\, Penrose\, Auckland\, AU 2105\, NZ
DESCRIPTION:Scooters\, tools\, jewellery\, phones\, tablets\, clothing\, PCs\,
  Kindles\, smart watches\, earbuds\, headphones\, laptops\, and m
 uch more. Viewing onsite at 50 Fairfax Ave\, Penrose on the T
 HURSDAY BEFORE the day of the Auction (Thursday 6pm) with pr
 e-biding and viewing online now.
URL:https://www.thorntons.net.nz/auctions/detail/bw125630
SEQUENCE:1
END:VEVENT
END:VCALENDAR