BEGIN:VCALENDAR
VERSION:2.0
PRODID:-//ExpressionEngine Easy iCalendar plugin//NONSGML v2.0.0//EN
X-WR-TIMEZONE:Pacific/Auckland
X-WR-CALNAME:Upcoming Auctions
BEGIN:VEVENT
UID:125875
DTSTAMP:20240816T170000
DTSTART:20240816T170000
DTEND:20240823T180000
SUMMARY:Alcohol Auction OL240823
LOCATION:50 Fairfax Ave\, Penrose\, Auckland\, AU 2105\, NZ
DESCRIPTION:Plenty of plonk\, brilliant beers\, bubbles\, RTDs\, non alcohol
 ic drinks and a few things to nibble on in this Timed Online
  Auction. This is a TIMED ONLINE ONLY Auction. Auction lots 
 have staggered closing times of 30 seconds from 6 p.m. FRIDA
 Y. Viewing is available on auction day. Items have not been 
 authenticated\; are responsible for determining for themselve
 s of any item's condition or functionality as per our terms 
 and conditions. All goods are without warranties expressed o
 r given. The sale of goods act does not apply to this auctio
 n. Collection from 50 Fairfax Ave\, Penrose\, Auckland. Collec
 tion must be booked from the ‘book collections now’ butt
 on on our website and completed within 3 working days. Buyer
 s Premium = 15% plus GST on the buyer’s premium. Payment: 
 Bank Deposit\, Credit Card\, or PayPal - any transaction fees\,
  surcharges etc will be passed on to payable by the buyer. M
 ust be made online after the auction concludes as per your i
 nvoice. Buyer to supply correct labour\, vehicle\, and packing
  items upon collection You must be over 18 to bid on alcohol
  - photograph ID required *** PLEASE ENSURE YOU HAVE READ TH
 E TERMS OF THIS AUCTION PRIOR TO BIDDING *** If you have any
  questions or requests\, please email enquiries@thorntons.net
 .nz.
URL:https://www.thorntons.net.nz/auctions/detail/bw125875
SEQUENCE:1
END:VEVENT
END:VCALENDAR