BEGIN:VCALENDAR
VERSION:2.0
PRODID:-//ExpressionEngine Easy iCalendar plugin//NONSGML v2.0.0//EN
X-WR-TIMEZONE:Pacific/Auckland
X-WR-CALNAME:Upcoming Auctions
BEGIN:VEVENT
UID:126215
DTSTAMP:20240902T120000
DTSTART:20240902T120000
DTEND:20240911T180000
SUMMARY:WELLINGTON - TV Production Auction OS240911
LOCATION:Te Aro\, Wellington\, WL 6011\, NZ
DESCRIPTION:Many flat-screen TVs and everything you'd expect to see in t
 his clearance of office and production room equipment and fu
 rniture are on offer.    Online viewing only. The collecti
 on is via appointment booking only on Tuesday 17th and Wedn
 esday 18th of September from Te Aro\, Wellington City.  A l
 ink and full address will be sent to the winning bidders.
URL:https://www.thorntons.net.nz/auctions/detail/bw126215
SEQUENCE:1
END:VEVENT
END:VCALENDAR