BEGIN:VCALENDAR
VERSION:2.0
PRODID:-//ExpressionEngine Easy iCalendar plugin//NONSGML v2.0.0//EN
X-WR-TIMEZONE:Pacific/Auckland
X-WR-CALNAME:Upcoming Auctions
BEGIN:VEVENT
UID:126467
DTSTAMP:20240829T190000
DTSTART:20240829T190000
DTEND:20240902T180000
SUMMARY:General Goods Auction MO240902
LOCATION:50 Fairfax Ave\, Penrose\, Auckland\, AU 2105\, NZ
DESCRIPTION:Food and beverages\, toys\, trinkets\, household goods\, whitewa
 re\, DIY and plenty more on offer in this General Goods Aucti
 on Auction lots have staggered closing times of 30 seconds f
 rom 6 p.m. MONDAY SEPTEMBER 2ND This is an ONLINE-ONLY AUCTI
 ON Collection from 50 Fairfax Ave\, Penrose\, Auckland. Collec
 tion must be booked from the ‘book collections now’ butt
 on on our website. Buyers Premium = 15% plus GST on the buye
 r’s premium Payment Bank deposit\, credit card\, or PayPal -
  any transaction fees\, surcharges etc will be passed on to p
 ayable by the buyer Must be made after the auctions with ite
 m collections within 3 working days Payments outstanding bey
 ond 3 days will be charged to the buyer-nominated credit car
 d Items have not been authenticated\; buyers must do their du
 e diligence as per our terms and conditions Buyer to supply 
 correct labour\, vehicle\, and packing items upon collection Y
 ou must be over 18 to bid on alcohol - photograph ID require
 d If you have any questions or requests\, please email enquir
 ies@thorntons.net.nz.
URL:https://www.thorntons.net.nz/auctions/detail/bw126467
SEQUENCE:1
END:VEVENT
END:VCALENDAR