BEGIN:VCALENDAR
VERSION:2.0
PRODID:-//ExpressionEngine Easy iCalendar plugin//NONSGML v2.0.0//EN
X-WR-TIMEZONE:Pacific/Auckland
X-WR-CALNAME:Upcoming Auctions
BEGIN:VEVENT
UID:126468
DTSTAMP:20240905T080000
DTSTART:20240905T080000
DTEND:20240909T180000
SUMMARY:General Goods Auction MO240909
LOCATION:50 Fairfax Ave\, Penrose\, Auckland\, AU 2105\, NZ
DESCRIPTION:Food and beverages\, toys\, trinkets\, household goods\, whitewa
 re\, DIY and plenty more on offer in this General Goods Aucti
 on Auction lots have staggered closing times of 30 seconds f
 rom 6 p.m. MONDAY September 9th This is an ONLINE-ONLY AUCT
 ION Collection from 50 Fairfax Ave\, Penrose\, Auckland. Colle
 ction must be booked from the ‘book collections now’ but
 ton on our website. Buyers Premium = 15% plus GST on the buy
 er’s premium Payment Bank deposit\, credit card\, or PayPal 
 - any transaction fees\, surcharges etc will be passed on to 
 payable by the buyer Must be made after the auctions with it
 em collections within 3 working days Payments outstanding be
 yond 3 days will be charged to the buyer-nominated credit ca
 rd Items have not been authenticated\; buyers must do their d
 ue diligence as per our terms and conditions Buyer to supply
  correct labour\, vehicle\, and packing items upon collection 
 You must be over 18 to bid on alcohol - photograph ID requir
 ed If you have any questions or requests\, please email enqui
 ries@thorntons.net.nz.
URL:https://www.thorntons.net.nz/auctions/detail/bw126468
SEQUENCE:1
END:VEVENT
END:VCALENDAR