BEGIN:VCALENDAR
VERSION:2.0
PRODID:-//ExpressionEngine Easy iCalendar plugin//NONSGML v2.0.0//EN
X-WR-TIMEZONE:Pacific/Auckland
X-WR-CALNAME:Upcoming Auctions
BEGIN:VEVENT
UID:126535
DTSTAMP:20240916T170000
DTSTART:20240916T170000
DTEND:20240919T180000
SUMMARY:Police & Others Auction TH240919
LOCATION:50 Fairfax Ave\, Penrose\, Auckland\, AU 2105\, NZ
DESCRIPTION:Scooters\, tools\, jewellery\, phones\, tablets\, clothing\, PCs\,
  Kindles\, smart watches\, earbuds\, headphones\, laptops\, and m
 uch more. Viewing onsite at 50 Fairfax Ave\, Penrose on the T
 HURSDAY BEFORE the day of the Auction (Thursday 6pm) with pr
 e-biding and viewing online now. *** NOTE: Police Tech aucti
 ons now run THE FIRST Thursday of each month and the full Po
 lice Auctions on THE THIRD Thursday of each month Auction lo
 ts start to close every 30 seconds from 6 pm\, Thursday Sept
 ember 20th.
URL:https://www.thorntons.net.nz/auctions/detail/bw126535
SEQUENCE:1
END:VEVENT
END:VCALENDAR