BEGIN:VCALENDAR
VERSION:2.0
PRODID:-//ExpressionEngine Easy iCalendar plugin//NONSGML v2.0.0//EN
X-WR-TIMEZONE:Pacific/Auckland
X-WR-CALNAME:Upcoming Auctions
BEGIN:VEVENT
UID:127083
DTSTAMP:20240913T150000
DTSTART:20240913T150000
DTEND:20240916T180000
SUMMARY:General Goods Auction MO240916
LOCATION:50 Fairfax Ave\, Penrose\, Auckland\, AU 2105\, NZ
DESCRIPTION:Food and beverages\, toys\, trinkets\, household goods\, whitewa
 re\, DIY and plenty more on offer in this General Goods Aucti
 on Auction lots have staggered closing times of 30 seconds f
 rom 6 p.m. MONDAY September 16th This is an ONLINE-ONLY AUC
 TION Collection from 50 Fairfax Ave\, Penrose\, Auckland. Coll
 ection must be booked from the ‘book collections now’ bu
 tton on our website. Buyers Premium = 15% plus GST on the bu
 yer’s premium Payment Bank deposit\, credit card\, or PayPal
  - any transaction fees\, surcharges etc will be passed on to
  payable by the buyer Must be made after the auctions with i
 tem collections within 3 working days Payments outstanding b
 eyond 3 days will be charged to the buyer-nominated credit c
 ard Items have not been authenticated\; buyers must do their 
 due diligence as per our terms and conditions Buyer to suppl
 y correct labour\, vehicle\, and packing items upon collection
  You must be over 18 to bid on alcohol - photograph ID requi
 red If you have any questions or requests\, please email enqu
 iries@thorntons.net.nz.
URL:https://www.thorntons.net.nz/auctions/detail/bw127083
SEQUENCE:1
END:VEVENT
END:VCALENDAR