BEGIN:VCALENDAR
VERSION:2.0
PRODID:-//ExpressionEngine Easy iCalendar plugin//NONSGML v2.0.0//EN
X-WR-TIMEZONE:Pacific/Auckland
X-WR-CALNAME:Upcoming Auctions
BEGIN:VEVENT
UID:127085
DTSTAMP:20240920T170000
DTSTART:20240920T170000
DTEND:20240930T180000
SUMMARY:Anime Newmarket Limited (In Liquidation) MO240923
LOCATION:50 Fairfax Ave\, Penrose\, Auckland\, AU 2105\, NZ
DESCRIPTION:All online now in this Anime online timed auction   Anime'
 s are the hand-drawn and computer-generated animations orig
 inating from Japan\, and we have characters\, toys\, posters an
 d much more to clear. Auction lots have staggered closing ti
 mes of 30 seconds from 6 p.m. MONDAY September 30th This is
  an ONLINE-ONLY AUCTION Viewing is on Friday September 27th 
 and Monday September 30th at Thornton Auctions Collection fr
 om 50 Fairfax Ave\, Penrose\, Auckland. Collection must be boo
 ked from the ‘book collections now’ button on our websit
 e. Buyers Premium = 15% plus GST on the buyer’s premium Pa
 yment Bank deposit\, credit card\, or PayPal - any transaction
  fees\, surcharges etc will be passed on to payable by the bu
 yer Must be made after the auctions with item collections wi
 thin 3 working days Payments outstanding beyond 3 days will 
 be charged to the buyer-nominated credit card Items have not
  been authenticated\; buyers must do their due diligence as p
 er our terms and conditions Buyer to supply correct labour\, 
 vehicle\, and packing items upon collection You must be over 
 18 to bid on alcohol - photograph ID required If you have an
 y questions or requests\, please email enquiries@thorntons.ne
 t.nz.
URL:https://www.thorntons.net.nz/auctions/detail/bw127085
SEQUENCE:1
END:VEVENT
END:VCALENDAR