BEGIN:VCALENDAR
VERSION:2.0
PRODID:-//ExpressionEngine Easy iCalendar plugin//NONSGML v2.0.0//EN
X-WR-TIMEZONE:Pacific/Auckland
X-WR-CALNAME:Upcoming Auctions
BEGIN:VEVENT
UID:128176
DTSTAMP:20240928T120000
DTSTART:20240928T120000
DTEND:20241010T200000
SUMMARY:Collage Furniture Stock Clearance OS240924
LOCATION:1 Henderson Place\, Onehunga\, Auckland\, AK 1061\, NZ
DESCRIPTION:This long-established furniture importer has been supplying 
 NZ's top furniture brand stores for decades and now has a su
 rplus of old stock\, both new and damaged returns\, that must 
 be cleared.  Register and bid now. Viewings - please conta
 ct us to arrange a viewing on Wednesday 09 October between 
 9am and 4:30 pm.  This will be in an active warehouse envir
 onment so covered footwear is required.  Collections - by 
 booking only . Online payment required prior to collection. 
 Book via www.thorntons.net.nz collection booking link. Monda
 y\, October 14th - Thursday October 17th. Contact us for del
 ivery options. 
URL:https://www.thorntons.net.nz/auctions/detail/bw128176
SEQUENCE:1
END:VEVENT
END:VCALENDAR