BEGIN:VCALENDAR
VERSION:2.0
PRODID:-//ExpressionEngine Easy iCalendar plugin//NONSGML v2.0.0//EN
X-WR-TIMEZONE:Pacific/Auckland
X-WR-CALNAME:Upcoming Auctions
BEGIN:VEVENT
UID:129538
DTSTAMP:20241025T050000
DTSTART:20241025T050000
DTEND:20241028T180000
SUMMARY:Labour Day - General Goods Auction MO241028
LOCATION:50 Fairfax Ave\, Penrose\, Auckland\, AU 2105\, NZ
DESCRIPTION:Don't miss this mega auction - celebrating the long weekend.
  We have some claw machines\, office furniture\, water pumps\,
  wine\, toys\, trinkets\, household goods\,  DIY and plenty mor
 e on offer in this Labour Day General Goods Auction Auction 
 lots have staggered closing times of 30 seconds from 6 p.m. 
 MONDAY\, October 28th.  Onsite viewing on Friday\, October 25
 th.
URL:https://www.thorntons.net.nz/auctions/detail/bw129538
SEQUENCE:1
END:VEVENT
END:VCALENDAR