BEGIN:VCALENDAR
VERSION:2.0
PRODID:-//ExpressionEngine Easy iCalendar plugin//NONSGML v2.0.0//EN
X-WR-TIMEZONE:Pacific/Auckland
X-WR-CALNAME:Upcoming Auctions
BEGIN:VEVENT
UID:129991
DTSTAMP:20241118T105300
DTSTART:20241118T105300
DTEND:20241118T115300
SUMMARY:Stainless Steel Factory Shutdown OS241118
LOCATION:28a Greenmount Drive\, East Tamaki\, Auckland\, AK 2013\, NZ
DESCRIPTION:Everything needs to be gone before the new fit-out can be d
 one\, and we mean everything. Aluminium\, stainless steel\, eng
 ineering machinery\, welders\, tools\, supplies\, benches\, compr
 essors and more. The live outcry Auction is Monday\, November
  18th\, 11 am.  You can join us onsite or from anywhere wit
 h internet access via our online live stream (Website or 
 app options available).  Prebidding is now open. Viewing is
  on the day of the auction from 9 am (or by appointment) and
  collection is on the day of the auction day (Monday\, Novem
 ber 18th) until 5 pm and/or Thursday\, November 21st. 9:30a -
  4:30p.  Location for pick up: 28a Greenmount Drive\, East T
 amaki\, Auckland. We can arrange special access for large mac
 hine collections if needed. Delivery may be available at bu
 yers' cost\, please contact us for a quote.
URL:https://www.thorntons.net.nz/auctions/detail/bw129991
SEQUENCE:1
END:VEVENT
END:VCALENDAR