BEGIN:VCALENDAR
VERSION:2.0
PRODID:-//ExpressionEngine Easy iCalendar plugin//NONSGML v2.0.0//EN
X-WR-TIMEZONE:Pacific/Auckland
X-WR-CALNAME:Upcoming Auctions
BEGIN:VEVENT
UID:130519
DTSTAMP:20241108T140000
DTSTART:20241108T140000
DTEND:20241111T180000
SUMMARY:General Goods Auction MO241111
LOCATION:50 Fairfax Ave\, Penrose\, Auckland\, AU 2105\, NZ
DESCRIPTION:Plenty more to come but you can get in early with 150 items 
 loaded now clothes\, toys\, trinkets\, household goods\, whitewa
 re\, DIY and plenty more on offer in this General Goods Aucti
 on
URL:https://www.thorntons.net.nz/auctions/detail/bw130519
SEQUENCE:1
END:VEVENT
END:VCALENDAR