BEGIN:VCALENDAR
VERSION:2.0
PRODID:-//ExpressionEngine Easy iCalendar plugin//NONSGML v2.0.0//EN
X-WR-TIMEZONE:Pacific/Auckland
X-WR-CALNAME:Upcoming Auctions
BEGIN:VEVENT
UID:130524
DTSTAMP:20241114T140000
DTSTART:20241114T140000
DTEND:20241118T180000
SUMMARY:General Goods Auction 18.11.24 MO130524
LOCATION:50 Fairfax Ave\, Penrose\, Auckland\, AU 2105\, NZ
DESCRIPTION:New products that must be cleared included Vases and Water P
 umps - plus food and beverages\, toys\, trinkets\, household go
 ods\, whiteware\, DIY and plenty more on offer in this General
  Goods Auction
URL:https://www.thorntons.net.nz/auctions/detail/bw130524
SEQUENCE:1
END:VEVENT
END:VCALENDAR