BEGIN:VCALENDAR
VERSION:2.0
PRODID:-//ExpressionEngine Easy iCalendar plugin//NONSGML v2.0.0//EN
X-WR-TIMEZONE:Pacific/Auckland
X-WR-CALNAME:Upcoming Auctions
BEGIN:VEVENT
UID:130525
DTSTAMP:20241118T170000
DTSTART:20241118T170000
DTEND:20241121T180000
SUMMARY:Police & Others Auction 21.11.24 TH130525
LOCATION:50 Fairfax Ave\, Penrose\, Auckland\, AU 2105\, NZ
DESCRIPTION:Scooters\, tools\, jewellery\, phones\, tablets\, clothing\, PCs\,
  Kindles\, smart watches\, earbuds\, headphones\, laptops\, and m
 uch more. Viewing onsite at 50 Fairfax Ave\, Penrose on THURS
 DAY 21st November (the day of the Auction Closes). Pre-bidin
 g and viewing online in the days leading up to the auction a
 t www.thorntons.net.nz.
URL:https://www.thorntons.net.nz/auctions/detail/bw130525
SEQUENCE:1
END:VEVENT
END:VCALENDAR