BEGIN:VCALENDAR
VERSION:2.0
PRODID:-//ExpressionEngine Easy iCalendar plugin//NONSGML v2.0.0//EN
X-WR-TIMEZONE:Pacific/Auckland
X-WR-CALNAME:Upcoming Auctions
BEGIN:VEVENT
UID:130526
DTSTAMP:20241115T150000
DTSTART:20241115T150000
DTEND:20241124T180000
SUMMARY:Alcohol & Beverages Auction 24.11.24 OL130526
LOCATION:50 Fairfax Ave\, Penrose\, Auckland\, AU 2105\, NZ
DESCRIPTION:Plenty of plonk\, brilliant beers\, bubbles\, RTDs\, and non-alc
 oholic drinks in this Timed Online Auction. This is a TIMED 
 ONLINE ONLY Auction. Auction lots have staggered closing tim
 es  Viewing is available on auction day. Items have not bee
 n authenticated\; are responsible for determining for themsel
 ves of any item's condition or functionality as per our term
 s and conditions. All goods are without warranties expressed
  or given. The Sale of Goods Act does not apply to this auct
 ion. Collection from 50 Fairfax Ave\, Penrose\, Auckland. Coll
 ection must be booked from the ‘book collections now’ bu
 tton on our website and completed within 3 working days. Buy
 er's Premium = 15% plus GST on the buyer’s premium. Paymen
 t: Bank Deposit\, Credit Card\, or PayPal - any transaction fe
 es\, surcharges etc will be passed on to payable by the buyer
 . Must be made online after the auction concludes as per you
 r invoice. Buyer to supply correct labour\, vehicle\, and pack
 ing items upon collection You must be over 18 to bid on alco
 hol - photograph ID required *** PLEASE ENSURE YOU HAVE READ
  THE TERMS OF THIS AUCTION BEFORE BIDDING *** If you have an
 y questions or requests\, please email enquiries@thorntons.ne
 t.nz.
URL:https://www.thorntons.net.nz/auctions/detail/bw130526
SEQUENCE:1
END:VEVENT
END:VCALENDAR