BEGIN:VCALENDAR
VERSION:2.0
PRODID:-//ExpressionEngine Easy iCalendar plugin//NONSGML v2.0.0//EN
X-WR-TIMEZONE:Pacific/Auckland
X-WR-CALNAME:Upcoming Auctions
BEGIN:VEVENT
UID:130528
DTSTAMP:20241122T170000
DTSTART:20241122T170000
DTEND:20241125T180000
SUMMARY:General Goods Auction 25.11.24 MO130528
LOCATION:50 Fairfax Ave\, Penrose\, Auckland\, AU 2105\, NZ
DESCRIPTION:Vases\, Water Pumps\, toys\, trinkets\, household goods\, white
 ware\, DIY and plenty more on offer in this General Goods Auc
 tion
URL:https://www.thorntons.net.nz/auctions/detail/bw130528
SEQUENCE:1
END:VEVENT
END:VCALENDAR