BEGIN:VCALENDAR
VERSION:2.0
PRODID:-//ExpressionEngine Easy iCalendar plugin//NONSGML v2.0.0//EN
X-WR-TIMEZONE:Pacific/Auckland
X-WR-CALNAME:Upcoming Auctions
BEGIN:VEVENT
UID:131739
DTSTAMP:20241129T170000
DTSTART:20241129T170000
DTEND:20241205T180000
SUMMARY:Police & Others Tech Auction 5.12.24 TH131739
LOCATION:50 Fairfax Ave\, Penrose\, Auckland\, AU 2105\, NZ
DESCRIPTION:Phones\, tablets\, PCs\, Kindles\, smart watches\, earbuds\, headp
 hones\, laptops\, and much more. Auction lots start to close e
 very 30 seconds from 6 pm Thursday. 
URL:https://www.thorntons.net.nz/auctions/detail/bw131739
SEQUENCE:1
END:VEVENT
END:VCALENDAR