BEGIN:VCALENDAR
VERSION:2.0
PRODID:-//ExpressionEngine Easy iCalendar plugin//NONSGML v2.0.0//EN
X-WR-TIMEZONE:Pacific/Auckland
X-WR-CALNAME:Upcoming Auctions
BEGIN:VEVENT
UID:131951
DTSTAMP:20250128T104900
DTSTART:20250128T104900
DTEND:20250128T114900
SUMMARY:Time Bandits TV Series Auction WGN131951
LOCATION:Cairo Road\, Upper Hutt\, Wellington\, WG 5018\, NZ
DESCRIPTION:Claim your small-screen streaming series souvenirs! Time Ban
 dits is a fantasy adventure television series created by Jem
 aine Clement\, Iain Morris\, and Taika Waititi\, based on chara
 cters from the 1981 film of the same name directed by Terry 
 Gilliam. The series premiered on July 24\, 2024 and starred 
 Lisa Kudrow\, Kal-El Tuck\, Tadhg Murphy\, Roger Jean Nsengiyu
 mva\,  Rune Temte\, Charlyne Yi\, Rachel House\, and Kiera Thom
 pson. This auction is in UPPER HUTT featuring furniture\,  
 cool props\, vehicles and general TV production assets from h
 eaters\, to tech to chairs. We will have relocation options 
 back to Auckland and possibly delivery POA - see the collect
 ions Lot at the start of the auction for further details. Vi
 ewing opens 9am on the day of the Auction.  Entry via the K
 ereru Brewing Company.  
URL:https://www.thorntons.net.nz/auctions/detail/bw131951
SEQUENCE:1
END:VEVENT
END:VCALENDAR