BEGIN:VCALENDAR
VERSION:2.0
PRODID:-//ExpressionEngine Easy iCalendar plugin//NONSGML v2.0.0//EN
X-WR-TIMEZONE:Pacific/Auckland
X-WR-CALNAME:Upcoming Auctions
BEGIN:VEVENT
UID:132068
DTSTAMP:20241213T170000
DTSTART:20241213T170000
DTEND:20241218T180000
SUMMARY:Police & Others Auction 18.12.24 TH132068
LOCATION:50 Fairfax Ave\, Penrose\, Auckland\, AU 2105\, NZ
DESCRIPTION:NOTE THIS IS A WEDNESDAY AUCTION AS WE ARE CLOSED FRIDAY 2
 0TH OF DECEMBER ADDITIONALLY OPEN FOR PRE-XMAS COLLECTIONS O
 NLY 9:30a-4p 23/24th Scooters\, tools\, jewellery\, phones\, ta
 blets\, clothing\, PCs\, Kindles\, smart watches\, earbuds\, headp
 hones\, laptops\, and more. Viewing onsite at 50 Fairfax Ave\, 
 Penrose on the TUESDAY BEFORE the day of the Auction (Wednes
 day 18th 6 pm) with pre-biding and viewing online now. Enjoy
  the festive-themed photos in this auction\, but please note
  that Santa's little helpers are not included in the sale 
 as they have busy work back at the North Pole to get to. Yo
 u are bidding on the items identified in the description o
 f goods in the lot.
URL:https://www.thorntons.net.nz/auctions/detail/bw132068
SEQUENCE:1
END:VEVENT
END:VCALENDAR