BEGIN:VCALENDAR
VERSION:2.0
PRODID:-//ExpressionEngine Easy iCalendar plugin//NONSGML v2.0.0//EN
X-WR-TIMEZONE:Pacific/Auckland
X-WR-CALNAME:Upcoming Auctions
BEGIN:VEVENT
UID:132429
DTSTAMP:20241219T170000
DTSTART:20241219T170000
DTEND:20250106T180000
SUMMARY:General Goods Auction 6.1.25 MO132429
LOCATION:50 Fairfax Ave\, Penrose\, Auckland\, AU 2105\, NZ
DESCRIPTION:Welcome to the first auction of 2025! Tools\, toys\, trinkets\,
  household goods\, whiteware\, DIY and plenty more on offer in
  this General Goods Auction We're still loading the items fo
 r you to browse through when you're beaching it or at the ba
 tch\, but feel free to register and bid on bargains now. We'l
 l get in touch when it's 100% loaded. Viewing available on M
 onday\, January 6th at our Auction House  
URL:https://www.thorntons.net.nz/auctions/detail/bw132429
SEQUENCE:1
END:VEVENT
END:VCALENDAR