BEGIN:VCALENDAR
VERSION:2.0
PRODID:-//ExpressionEngine Easy iCalendar plugin//NONSGML v2.0.0//EN
X-WR-TIMEZONE:Pacific/Auckland
X-WR-CALNAME:Upcoming Auctions
BEGIN:VEVENT
UID:132600
DTSTAMP:20250124T170000
DTSTART:20250124T170000
DTEND:20250211T180000
SUMMARY:Take III - TV Production Auction 11.2.25 OS132600
LOCATION:3 Flower Street\, Eden Terrace\, Auckland\, AK 1021\, NZ
DESCRIPTION:We're back in 2025 with another TV Production Auction In th
 is auction\, we have clothing and many flat-screen TVs\, offi
 ce furniture\, computers\, laptop docks\, computer monitors\, of
 fice lighting\, studio equipment\, kitchenware\, lounge furnitu
 re\, laptops and other IT equipment\, and everything you'd ex
 pect to see in this clearance of modern offices and TV studi
 o production equipment.    Onsite viewing times are to be
  confirmed. Collection from Eden Terrace\, Auckland\, strictl
 y via appointment booking only (use the link on our website
 ).  Collection days/times: The day after the auction closes
 \, Wednesday 12th February  Thursday 13th February Friday 14
 th February A booking link and full address will be sent to
  the winning bidders.
URL:https://www.thorntons.net.nz/auctions/detail/bw132600
SEQUENCE:1
END:VEVENT
END:VCALENDAR