BEGIN:VCALENDAR
VERSION:2.0
PRODID:-//ExpressionEngine Easy iCalendar plugin//NONSGML v2.0.0//EN
X-WR-TIMEZONE:Pacific/Auckland
X-WR-CALNAME:Upcoming Auctions
BEGIN:VEVENT
UID:132604
DTSTAMP:20250117T090000
DTSTART:20250117T090000
DTEND:20250120T180000
SUMMARY:General Goods Auction 20.1.25 MO132604
LOCATION:50 Fairfax Ave\, Penrose\, Auckland\, AU 2105\, NZ
DESCRIPTION:Plenty more to come but you can get in early with 150 items 
 loaded now clothes\, toys\, trinkets\, household goods\, whitewa
 re\, DIY and plenty more on offer in this General Goods Aucti
 on
URL:https://www.thorntons.net.nz/auctions/detail/bw132604
SEQUENCE:1
END:VEVENT
END:VCALENDAR