BEGIN:VCALENDAR
VERSION:2.0
PRODID:-//ExpressionEngine Easy iCalendar plugin//NONSGML v2.0.0//EN
X-WR-TIMEZONE:Pacific/Auckland
X-WR-CALNAME:Upcoming Auctions
BEGIN:VEVENT
UID:132610
DTSTAMP:20250113T170000
DTSTART:20250113T170000
DTEND:20250116T180000
SUMMARY:Police & Others Tech Auction 16.01.25 TH132610
LOCATION:50 Fairfax Ave\, Penrose\, Auckland\, AU 2105\, NZ
DESCRIPTION:Many more items to come: Phones\, tablets\, PCs\, Kindles\, smar
 t watches\, earbuds\, headphones\, laptops\, and much more. We'v
 e loaded some to get the ball rolling... if you register we'
 ll let you know when the last lots are loaded. Auction lots 
 start to close every 30 seconds from 6 pm
URL:https://www.thorntons.net.nz/auctions/detail/bw132610
SEQUENCE:1
END:VEVENT
END:VCALENDAR