BEGIN:VCALENDAR
VERSION:2.0
PRODID:-//ExpressionEngine Easy iCalendar plugin//NONSGML v2.0.0//EN
X-WR-TIMEZONE:Pacific/Auckland
X-WR-CALNAME:Upcoming Auctions
BEGIN:VEVENT
UID:132620
DTSTAMP:20250211T090000
DTSTART:20250211T090000
DTEND:20250217T180000
SUMMARY:General Goods Auction 17.02.25 MO132620
LOCATION:50 Fairfax Ave\, Penrose\, Auckland\, AU 2105\, NZ
DESCRIPTION:New products that must be cleared included plus food and be
 verages\, toys\, trinkets\, household goods\, whiteware\, DIY and
  plenty more on offer in this General Goods Auction
URL:https://www.thorntons.net.nz/auctions/detail/bw132620
SEQUENCE:1
END:VEVENT
END:VCALENDAR