BEGIN:VCALENDAR
VERSION:2.0
PRODID:-//ExpressionEngine Easy iCalendar plugin//NONSGML v2.0.0//EN
X-WR-TIMEZONE:Pacific/Auckland
X-WR-CALNAME:Upcoming Auctions
BEGIN:VEVENT
UID:132621
DTSTAMP:20250214T120000
DTSTART:20250214T120000
DTEND:20250220T180000
SUMMARY:Police & Others Tech Auction 20.02.25 TH132621
LOCATION:50 Fairfax Ave\, Penrose\, Auckland\, AU 2105\, NZ
DESCRIPTION:Get ready for the Ultimate Tech Treasure Hunt at our Poli
 ce Auction! Discover an incredible array of tech items\, all 
 up for grabs at unbeatable prices!  Smartphones & Tablets 
 - Find top brands and models! Laptops & Desktops - Upgrade 
 your tech game! Gaming Consoles & Accessories - Level up yo
 ur playtime! Cameras & Drones - Capture life's moments in s
 tunning detail! Smart Home Devices - Make your home smarter
  and more efficient! Wearables & Fitness Trackers - Stay co
 nnected and healthy! Don't miss this chance to score amazing
  deals on high-quality tech items. Whether you're a tech gur
 u or just looking for a great bargain\, there's something for
  everyone! Unbeatable Prices - Bid and win at a fraction of
  retail cost! Wide Selection - A diverse range of items to 
 suit all your tech needs! Mark your calendars and get ready 
 to bid on the tech of your dreams. See you there! 
URL:https://www.thorntons.net.nz/auctions/detail/bw132621
SEQUENCE:1
END:VEVENT
END:VCALENDAR