BEGIN:VCALENDAR
VERSION:2.0
PRODID:-//ExpressionEngine Easy iCalendar plugin//NONSGML v2.0.0//EN
X-WR-TIMEZONE:Pacific/Auckland
X-WR-CALNAME:Upcoming Auctions
BEGIN:VEVENT
UID:132622
DTSTAMP:20250220T170000
DTSTART:20250220T170000
DTEND:20250302T180000
SUMMARY:Roam & Loom Auction 02.03.25 MO132622
LOCATION:50 Fairfax Ave\, Penrose\, Auckland\, AU 2105\, NZ
DESCRIPTION:LIVE NOW: Roam & Loom is a laidback lifestyle and homewares 
 brand inspired by creativity and individuality. These are AL
 L handmade and ethically sourced\, gorgeous range! In this au
 ction are selected items including hanging planters\, vases\, 
 shades\, candle sets\, jug sets\, cushions and poufs and more. 
 Viewing will be available in our Auction Rooms - 50 Fairfax 
 Avenue\, Penrose.
URL:https://www.thorntons.net.nz/auctions/detail/bw132622
SEQUENCE:1
END:VEVENT
END:VCALENDAR