BEGIN:VCALENDAR
VERSION:2.0
PRODID:-//ExpressionEngine Easy iCalendar plugin//NONSGML v2.0.0//EN
X-WR-TIMEZONE:Pacific/Auckland
X-WR-CALNAME:Upcoming Auctions
BEGIN:VEVENT
UID:132623
DTSTAMP:20250423T170000
DTSTART:20250423T170000
DTEND:20250501T180000
SUMMARY:Police & Others Auction 01.05.25 TH132623
LOCATION:50 Fairfax Ave\, Penrose\, Auckland\, AU 2105\, NZ
DESCRIPTION:Welcome to our monthly Police (& Others) auction. A bunch of
  items\, from tools to tech\, clothes\, sports\, and so much mor
 e. Online viewing and pre-bidding is available now. You can 
 physically view items on the day the auction closes at 50 Fa
 irfax Ave\, Penrose\, Auckland 1061\, New Zealand
URL:https://www.thorntons.net.nz/auctions/detail/bw132623
SEQUENCE:1
END:VEVENT
END:VCALENDAR