BEGIN:VCALENDAR
VERSION:2.0
PRODID:-//ExpressionEngine Easy iCalendar plugin//NONSGML v2.0.0//EN
X-WR-TIMEZONE:Pacific/Auckland
X-WR-CALNAME:Upcoming Auctions
BEGIN:VEVENT
UID:132646
DTSTAMP:20250224T140000
DTSTART:20250224T140000
DTEND:20250303T180000
SUMMARY:Tools Auction 3.3.2025 - TH132646
LOCATION:50 Fairfax Ave\, Penrose\, Auckland\, AU 2105\, NZ
DESCRIPTION:Massive tool auction on now - plenty of new and used items f
 or the trade or DIYer in us all!   Plus selected damaged f
 reight auction items to tempt.
URL:https://www.thorntons.net.nz/auctions/detail/bw132646
SEQUENCE:1
END:VEVENT
END:VCALENDAR