BEGIN:VCALENDAR
VERSION:2.0
PRODID:-//ExpressionEngine Easy iCalendar plugin//NONSGML v2.0.0//EN
X-WR-TIMEZONE:Pacific/Auckland
X-WR-CALNAME:Upcoming Auctions
BEGIN:VEVENT
UID:132685
DTSTAMP:20250327T170000
DTSTART:20250327T170000
DTEND:20250403T180000
SUMMARY:Police & Others Tech Auction 03.04.25 TH132685
LOCATION:50 Fairfax Avenue\, Penrose\, Auckland\, AK 1061\, NZ
DESCRIPTION:Register now for our next Police & Others Tech Auction If it
  can fit in the cabinet then its going under the hammer. Tec
 h\, tech and more tech! Phones\, tablets\, Kindles\, smart watch
 es\, earbuds\, headphones\, laptops\, and much more. Viewing ons
 ite at 50 Fairfax Ave\, Penrose on the day of the Auction clo
 ses. Register now and be the first to know when the lots are
  live!
URL:https://www.thorntons.net.nz/auctions/detail/bw132685
SEQUENCE:1
END:VEVENT
END:VCALENDAR