BEGIN:VCALENDAR
VERSION:2.0
PRODID:-//ExpressionEngine Easy iCalendar plugin//NONSGML v2.0.0//EN
X-WR-TIMEZONE:Pacific/Auckland
X-WR-CALNAME:Upcoming Auctions
BEGIN:VEVENT
UID:132695
DTSTAMP:20250414T160000
DTSTART:20250414T160000
DTEND:20250424T180000
SUMMARY:Collectables & Antiques Auction 24.04.25 TH132695
LOCATION:50 Fairfax Avenue\, Penrose\, Auckland\, AK 1061\, NZ
DESCRIPTION:A large selection of antiques and collectables are coming yo
 ur way including toys\, artwork\, militaria\, clothing\, postcar
 ds\, cultural items and more. On-site viewing will be avaiabl
 e in our auction rooms at 50 Fairfax Ave\, Penrose.
URL:https://www.thorntons.net.nz/auctions/detail/bw132695
SEQUENCE:1
END:VEVENT
END:VCALENDAR