BEGIN:VCALENDAR
VERSION:2.0
PRODID:-//ExpressionEngine Easy iCalendar plugin//NONSGML v2.0.0//EN
X-WR-TIMEZONE:Pacific/Auckland
X-WR-CALNAME:Upcoming Auctions
BEGIN:VEVENT
UID:132709
DTSTAMP:20250523T140000
DTSTART:20250523T140000
DTEND:20250526T180000
SUMMARY:Clothing Auction 26.5.25 MO132709
LOCATION:50 Fairfax Avenue\, Penrose\, Auckland\, AK 1061\, NZ
DESCRIPTION:A change of seasons means a change of wardrobes! Join us fo
 r our fantastic fabric fiesta with suits and dresses for the
  ball season\, footwear for both the young and old\, ties\, win
 ter lines\, summer run-out favourites\, and much more! Every d
 ay labels to designer brands—all for bargain bidding. Regi
 ster Now!
URL:https://www.thorntons.net.nz/auctions/detail/bw132709
SEQUENCE:1
END:VEVENT
END:VCALENDAR