BEGIN:VCALENDAR
VERSION:2.0
PRODID:-//ExpressionEngine Easy iCalendar plugin//NONSGML v2.0.0//EN
X-WR-TIMEZONE:Pacific/Auckland
X-WR-CALNAME:Upcoming Auctions
BEGIN:VEVENT
UID:132731
DTSTAMP:20250603T170000
DTSTART:20250603T170000
DTEND:20250609T180000
SUMMARY:Fabric & Sewing Store Auction 9.6.25 OS132731
LOCATION:16 Hall Avenue\, Otahuhu\, Auckland\, AK 1602\, NZ
DESCRIPTION:No Reserve Auction. A massive variety and quantity of fabri
 cs and sewing supplies must all be sold. This small family-r
 un business in Otahuhu has closed\, and this stock needs a ne
 w home – whether you're after a few fabrics for your pers
 onal use or bulk supplies for your own store\, with the volum
 e of different materials and roll sizes we recommend coming 
 in for viewing. Viewing: June 9th - 10am - 2pm - 16 Hall Str
 eet\, Otahuhu Collection: June 10th and 11th 10am to 4pm
URL:https://www.thorntons.net.nz/auctions/detail/bw132731
SEQUENCE:1
END:VEVENT
END:VCALENDAR