BEGIN:VCALENDAR
VERSION:2.0
PRODID:-//ExpressionEngine Easy iCalendar plugin//NONSGML v2.0.0//EN
X-WR-TIMEZONE:Pacific/Auckland
X-WR-CALNAME:Upcoming Auctions
BEGIN:VEVENT
UID:132738
DTSTAMP:20250520T170000
DTSTART:20250520T170000
DTEND:20250522T180000
SUMMARY:DIY & Tools Auction 22.5.2025 - TH132738
LOCATION:50 Fairfax Ave\, Penrose\, Auckland\, AU 2105\, NZ
DESCRIPTION:We have so many tools\; we are planning another massive tool 
 auction. Plenty of new and used items for the trade or DIYer
  in us all!  
URL:https://www.thorntons.net.nz/auctions/detail/bw132738
SEQUENCE:1
END:VEVENT
END:VCALENDAR